BEGIN:VCALENDAR
VERSION:2.0
PRODID:-//The Oak Inn Staplow - ECPv6.15.20//NONSGML v1.0//EN
CALSCALE:GREGORIAN
METHOD:PUBLISH
X-WR-CALNAME:The Oak Inn Staplow
X-ORIGINAL-URL:https://theoakinnstaplow.co.uk
X-WR-CALDESC:Events for The Oak Inn Staplow
REFRESH-INTERVAL;VALUE=DURATION:PT1H
X-Robots-Tag:noindex
X-PUBLISHED-TTL:PT1H
BEGIN:VTIMEZONE
TZID:Europe/London
BEGIN:DAYLIGHT
TZOFFSETFROM:+0000
TZOFFSETTO:+0100
TZNAME:BST
DTSTART:20240331T010000
END:DAYLIGHT
BEGIN:STANDARD
TZOFFSETFROM:+0100
TZOFFSETTO:+0000
TZNAME:GMT
DTSTART:20241027T010000
END:STANDARD
BEGIN:DAYLIGHT
TZOFFSETFROM:+0000
TZOFFSETTO:+0100
TZNAME:BST
DTSTART:20250330T010000
END:DAYLIGHT
BEGIN:STANDARD
TZOFFSETFROM:+0100
TZOFFSETTO:+0000
TZNAME:GMT
DTSTART:20251026T010000
END:STANDARD
BEGIN:DAYLIGHT
TZOFFSETFROM:+0000
TZOFFSETTO:+0100
TZNAME:BST
DTSTART:20260329T010000
END:DAYLIGHT
BEGIN:STANDARD
TZOFFSETFROM:+0100
TZOFFSETTO:+0000
TZNAME:GMT
DTSTART:20261025T010000
END:STANDARD
END:VTIMEZONE
BEGIN:VEVENT
DTSTART;TZID=Europe/London:20251207T190000
DTEND;TZID=Europe/London:20251207T213000
DTSTAMP:20260420T185227
CREATED:20251101T100148Z
LAST-MODIFIED:20251101T100734Z
UID:26860-1765134000-1765143000@theoakinnstaplow.co.uk
SUMMARY:Christmas quiz night on Sunday 7th December at 7pm
DESCRIPTION:Join us for our next quiz on Sunday 7th December at 7.00pm. Our nominated charit
URL:https://theoakinnstaplow.co.uk/event/christmas-quiz-night-on-sunday-7th-december-at-7pm/
LOCATION:The Oak Inn at Staplow\, Bromyard Road\, Ledbury\, Herefordshire\, HR8 1NP\, United Kingdom
CATEGORIES:Quizzes
ATTACH;FMTTYPE=image/png:https://theoakinnstaplow.co.uk/wp-content/uploads/2025/11/Quiz011125.png
END:VEVENT
END:VCALENDAR