BEGIN:VCALENDAR
VERSION:2.0
PRODID:-//The Oak Inn Staplow - ECPv6.15.20//NONSGML v1.0//EN
CALSCALE:GREGORIAN
METHOD:PUBLISH
X-ORIGINAL-URL:https://theoakinnstaplow.co.uk
X-WR-CALDESC:Events for The Oak Inn Staplow
REFRESH-INTERVAL;VALUE=DURATION:PT1H
X-Robots-Tag:noindex
X-PUBLISHED-TTL:PT1H
BEGIN:VTIMEZONE
TZID:Europe/London
BEGIN:DAYLIGHT
TZOFFSETFROM:+0000
TZOFFSETTO:+0100
TZNAME:BST
DTSTART:20250330T010000
END:DAYLIGHT
BEGIN:STANDARD
TZOFFSETFROM:+0100
TZOFFSETTO:+0000
TZNAME:GMT
DTSTART:20251026T010000
END:STANDARD
BEGIN:DAYLIGHT
TZOFFSETFROM:+0000
TZOFFSETTO:+0100
TZNAME:BST
DTSTART:20260329T010000
END:DAYLIGHT
BEGIN:STANDARD
TZOFFSETFROM:+0100
TZOFFSETTO:+0000
TZNAME:GMT
DTSTART:20261025T010000
END:STANDARD
BEGIN:DAYLIGHT
TZOFFSETFROM:+0000
TZOFFSETTO:+0100
TZNAME:BST
DTSTART:20270328T010000
END:DAYLIGHT
BEGIN:STANDARD
TZOFFSETFROM:+0100
TZOFFSETTO:+0000
TZNAME:GMT
DTSTART:20271031T010000
END:STANDARD
END:VTIMEZONE
BEGIN:VEVENT
DTSTART;TZID=Europe/London:20260423T183000
DTEND;TZID=Europe/London:20260423T203000
DTSTAMP:20260420T103351
CREATED:20260415T090524Z
LAST-MODIFIED:20260415T090524Z
UID:29053-1776969000-1776976200@theoakinnstaplow.co.uk
SUMMARY:ST GEORGE'S DAY CORNISH SEA SHANTY on Thursday 23rd April at 6:30pm
DESCRIPTION:Join us to celebrate ST GEORGE’S DAY for a Cornish Sea Shanty night of singing featuring ‘THE FISHMONGERS FRIENDS’ serving themed food and ale from 5.30pm until 7 30pm.
URL:https://theoakinnstaplow.co.uk/event/st-georges-day-cornish-sea-shanty-on-thursday-23rd-april-at-630pm-2/
LOCATION:The Oak Inn at Staplow\, Bromyard Road\, Ledbury\, Herefordshire\, HR8 1NP\, United Kingdom
CATEGORIES:Live Music,Special Events
ATTACH;FMTTYPE=image/jpeg:https://theoakinnstaplow.co.uk/wp-content/uploads/2026/04/StGeorge2026.jpg
END:VEVENT
BEGIN:VEVENT
DTSTART;TZID=Europe/London:20260423T183000
DTEND;TZID=Europe/London:20260423T213000
DTSTAMP:20260420T103351
CREATED:20260120T142121Z
LAST-MODIFIED:20260120T142121Z
UID:27967-1776969000-1776979800@theoakinnstaplow.co.uk
SUMMARY:ST GEORGES DAY CORNISH SEA SHANTY on Thursday 23rd April at 6:30pm
DESCRIPTION:Join us to celebrate ST GEORGE’S DAY for a Cornish Sea Shanty night of singing featuring ‘THE FISHMONGERS FRIENDS’ serving themed food and ale from 5.30pm until 7 30pm.
URL:https://theoakinnstaplow.co.uk/event/st-georges-day-cornish-sea-shanty-on-thursday-23rd-april-at-630pm/
LOCATION:The Oak Inn at Staplow\, Bromyard Road\, Ledbury\, Herefordshire\, HR8 1NP\, United Kingdom
CATEGORIES:Live Music
ATTACH;FMTTYPE=image/jpeg:https://theoakinnstaplow.co.uk/wp-content/uploads/2026/01/Seashanty200126.jpg
END:VEVENT
END:VCALENDAR