BEGIN:VCALENDAR
VERSION:2.0
PRODID:-//The Oak Inn Staplow - ECPv6.15.20//NONSGML v1.0//EN
CALSCALE:GREGORIAN
METHOD:PUBLISH
X-ORIGINAL-URL:https://theoakinnstaplow.co.uk
X-WR-CALDESC:Events for The Oak Inn Staplow
REFRESH-INTERVAL;VALUE=DURATION:PT1H
X-Robots-Tag:noindex
X-PUBLISHED-TTL:PT1H
BEGIN:VTIMEZONE
TZID:Europe/London
BEGIN:DAYLIGHT
TZOFFSETFROM:+0000
TZOFFSETTO:+0100
TZNAME:BST
DTSTART:20210328T010000
END:DAYLIGHT
BEGIN:STANDARD
TZOFFSETFROM:+0100
TZOFFSETTO:+0000
TZNAME:GMT
DTSTART:20211031T010000
END:STANDARD
BEGIN:DAYLIGHT
TZOFFSETFROM:+0000
TZOFFSETTO:+0100
TZNAME:BST
DTSTART:20220327T010000
END:DAYLIGHT
BEGIN:STANDARD
TZOFFSETFROM:+0100
TZOFFSETTO:+0000
TZNAME:GMT
DTSTART:20221030T010000
END:STANDARD
BEGIN:DAYLIGHT
TZOFFSETFROM:+0000
TZOFFSETTO:+0100
TZNAME:BST
DTSTART:20230326T010000
END:DAYLIGHT
BEGIN:STANDARD
TZOFFSETFROM:+0100
TZOFFSETTO:+0000
TZNAME:GMT
DTSTART:20231029T010000
END:STANDARD
END:VTIMEZONE
BEGIN:VEVENT
DTSTART;TZID=Europe/London:20221130T183000
DTEND;TZID=Europe/London:20221130T213000
DTSTAMP:20260425T005907
CREATED:20220920T081353Z
LAST-MODIFIED:20221001T082324Z
UID:4178-1669833000-1669843800@theoakinnstaplow.co.uk
SUMMARY:3 Italian course meal & Swing Live Music on Wednesday 30th Nov at 6.30pm
DESCRIPTION:  \nJoin us for our ITALIAN NIGHT featuring Will Rawlings as DEAN MARTIN and singing Swing classics on Wednesday 30th November at 6.30pm for 7.00pm. Welcome Prosecco Cocktail & our guest head chef Jason Henderson’s 3 course Italian set menu. Welcome drink\, food and live music for a price of £45.00 per head. This is a pre-paid event where you can purchase tickets below. \nBuy Tickets Below\n(If you require a refund\, it must be requested at least 48 hours before the event starts. Tickets will be emailed to you following successful payment.) \nFull Name *Email Address *Phone Number *Number of Tickets *Total Price (£)Credit / Debit Card *Buy Now\n 
URL:https://theoakinnstaplow.co.uk/event/italian/
LOCATION:The Oak Inn at Staplow\, Bromyard Road\, Ledbury\, Herefordshire\, HR8 1NP\, United Kingdom
CATEGORIES:Live Music
ATTACH;FMTTYPE=image/jpeg:https://theoakinnstaplow.co.uk/wp-content/uploads/2022/09/ItalianEvening3.jpg
END:VEVENT
END:VCALENDAR