BEGIN:VCALENDAR
VERSION:2.0
PRODID:-//The Oak Inn Staplow - ECPv6.15.20//NONSGML v1.0//EN
CALSCALE:GREGORIAN
METHOD:PUBLISH
X-ORIGINAL-URL:https://theoakinnstaplow.co.uk
X-WR-CALDESC:Events for The Oak Inn Staplow
REFRESH-INTERVAL;VALUE=DURATION:PT1H
X-Robots-Tag:noindex
X-PUBLISHED-TTL:PT1H
BEGIN:VTIMEZONE
TZID:Europe/London
BEGIN:DAYLIGHT
TZOFFSETFROM:+0000
TZOFFSETTO:+0100
TZNAME:BST
DTSTART:20250330T010000
END:DAYLIGHT
BEGIN:STANDARD
TZOFFSETFROM:+0100
TZOFFSETTO:+0000
TZNAME:GMT
DTSTART:20251026T010000
END:STANDARD
BEGIN:DAYLIGHT
TZOFFSETFROM:+0000
TZOFFSETTO:+0100
TZNAME:BST
DTSTART:20260329T010000
END:DAYLIGHT
BEGIN:STANDARD
TZOFFSETFROM:+0100
TZOFFSETTO:+0000
TZNAME:GMT
DTSTART:20261025T010000
END:STANDARD
BEGIN:DAYLIGHT
TZOFFSETFROM:+0000
TZOFFSETTO:+0100
TZNAME:BST
DTSTART:20270328T010000
END:DAYLIGHT
BEGIN:STANDARD
TZOFFSETFROM:+0100
TZOFFSETTO:+0000
TZNAME:GMT
DTSTART:20271031T010000
END:STANDARD
END:VTIMEZONE
BEGIN:VEVENT
DTSTART;TZID=Europe/London:20260329T183000
DTEND;TZID=Europe/London:20260329T203000
DTSTAMP:20260420T103113
CREATED:20251205T094816Z
LAST-MODIFIED:20260310T193913Z
UID:27398-1774809000-1774816200@theoakinnstaplow.co.uk
SUMMARY:March LIVE IRISH MUSIC SUPPER CLUB on Sunday 29th March at 6:30pm
DESCRIPTION:Join us for our FREE LIVE IRISH MUSIC SUPPER CLUB on Sunday 29th March at 6.30pm. Featuring PAUL & CAITLIN of the ROVING CROWS performing LIVE! Food from 5.40pm until 7.15pm serving Traditional Pub Grub Menu. To reserve your table please visit our WEBSITE www.theoakinnstaplow.co.uk and click BOOK A TABLE or just CALL US on 01531 640954  
URL:https://theoakinnstaplow.co.uk/event/march-live-irish-music-supper-club-on-sunday-29th-march-at-630pm/
LOCATION:The Oak Inn at Staplow\, Bromyard Road\, Ledbury\, Herefordshire\, HR8 1NP\, United Kingdom
CATEGORIES:Live Music
ATTACH;FMTTYPE=image/jpeg:https://theoakinnstaplow.co.uk/wp-content/uploads/2026/03/Event290326.jpeg
END:VEVENT
END:VCALENDAR