BEGIN:VCALENDAR
VERSION:2.0
PRODID:-//The Oak Inn Staplow - ECPv6.15.20//NONSGML v1.0//EN
CALSCALE:GREGORIAN
METHOD:PUBLISH
X-ORIGINAL-URL:https://theoakinnstaplow.co.uk
X-WR-CALDESC:Events for The Oak Inn Staplow
REFRESH-INTERVAL;VALUE=DURATION:PT1H
X-Robots-Tag:noindex
X-PUBLISHED-TTL:PT1H
BEGIN:VTIMEZONE
TZID:Europe/London
BEGIN:DAYLIGHT
TZOFFSETFROM:+0000
TZOFFSETTO:+0100
TZNAME:BST
DTSTART:20240331T010000
END:DAYLIGHT
BEGIN:STANDARD
TZOFFSETFROM:+0100
TZOFFSETTO:+0000
TZNAME:GMT
DTSTART:20241027T010000
END:STANDARD
BEGIN:DAYLIGHT
TZOFFSETFROM:+0000
TZOFFSETTO:+0100
TZNAME:BST
DTSTART:20250330T010000
END:DAYLIGHT
BEGIN:STANDARD
TZOFFSETFROM:+0100
TZOFFSETTO:+0000
TZNAME:GMT
DTSTART:20251026T010000
END:STANDARD
BEGIN:DAYLIGHT
TZOFFSETFROM:+0000
TZOFFSETTO:+0100
TZNAME:BST
DTSTART:20260329T010000
END:DAYLIGHT
BEGIN:STANDARD
TZOFFSETFROM:+0100
TZOFFSETTO:+0000
TZNAME:GMT
DTSTART:20261025T010000
END:STANDARD
END:VTIMEZONE
BEGIN:VEVENT
DTSTART;TZID=Europe/London:20251221T183000
DTEND;TZID=Europe/London:20251221T213000
DTSTAMP:20260420T151538
CREATED:20250904T224223Z
LAST-MODIFIED:20251118T092449Z
UID:25991-1766341800-1766352600@theoakinnstaplow.co.uk
SUMMARY:XMAS FREE LIVE MUSIC SUPPER CLUB on Sunday 21st December at 6:30pm
DESCRIPTION:Join us for our XMAS FREE LIVE MUSIC SUPPER CLUB on Sunday 21st December at 6.30pm. Featuring AMARETTO LOUNGE performing LIVE and SINGING Modern Pop Classics. Food from 6.00pm until 7.15pm serving Traditional Pub Grub Menu. To reserve your table please visit our WEBSITE www.theoakinnstaplow.co.uk and click BOOK A TABLE or just CALL US on 01531 640954  
URL:https://theoakinnstaplow.co.uk/event/xmas-free-live-music-supper-club-on-sunday-21st-december-at-630pm/
LOCATION:The Oak Inn at Staplow\, Bromyard Road\, Ledbury\, Herefordshire\, HR8 1NP\, United Kingdom
CATEGORIES:Live Music
ATTACH;FMTTYPE=image/png:https://theoakinnstaplow.co.uk/wp-content/uploads/2025/09/Xmas181125.png
END:VEVENT
BEGIN:VEVENT
DTSTART;TZID=Europe/London:20251228T183000
DTEND;TZID=Europe/London:20251228T210000
DTSTAMP:20260420T151538
CREATED:20250908T124424Z
LAST-MODIFIED:20251118T092615Z
UID:26025-1766946600-1766955600@theoakinnstaplow.co.uk
SUMMARY:TWIXMAS FREE LIVE MUSIC SUPPER CLUB on Sunday 28th December at 6:30pm
DESCRIPTION:Join us for our TWIXMAS FREE LIVE MUSIC SUPPER CLUB on Sunday 28th December at 6.30pm. Featuring MEL & HIM performing LIVE and SINGING Modern Pop Classics. Food from 6.00pm until 7.15pm serving Traditional Pub Grub Menu. To reserve your table please visit our WEBSITE www.theoakinnstaplow.co.uk and click BOOK A TABLE or just CALL US on 01531 640954  
URL:https://theoakinnstaplow.co.uk/event/twixmas-free-live-music-supper-club-on-sunday-28th-december-at-630pm/
LOCATION:The Oak Inn at Staplow\, Bromyard Road\, Ledbury\, Herefordshire\, HR8 1NP\, United Kingdom
CATEGORIES:Live Music
ATTACH;FMTTYPE=image/png:https://theoakinnstaplow.co.uk/wp-content/uploads/2025/09/twixmas181125.png
END:VEVENT
END:VCALENDAR