BEGIN:VCALENDAR
VERSION:2.0
PRODID:-//The Oak Inn Staplow - ECPv6.15.20//NONSGML v1.0//EN
CALSCALE:GREGORIAN
METHOD:PUBLISH
X-WR-CALNAME:The Oak Inn Staplow
X-ORIGINAL-URL:https://theoakinnstaplow.co.uk
X-WR-CALDESC:Events for The Oak Inn Staplow
REFRESH-INTERVAL;VALUE=DURATION:PT1H
X-Robots-Tag:noindex
X-PUBLISHED-TTL:PT1H
BEGIN:VTIMEZONE
TZID:Europe/London
BEGIN:DAYLIGHT
TZOFFSETFROM:+0000
TZOFFSETTO:+0100
TZNAME:BST
DTSTART:20210328T010000
END:DAYLIGHT
BEGIN:STANDARD
TZOFFSETFROM:+0100
TZOFFSETTO:+0000
TZNAME:GMT
DTSTART:20211031T010000
END:STANDARD
BEGIN:DAYLIGHT
TZOFFSETFROM:+0000
TZOFFSETTO:+0100
TZNAME:BST
DTSTART:20220327T010000
END:DAYLIGHT
BEGIN:STANDARD
TZOFFSETFROM:+0100
TZOFFSETTO:+0000
TZNAME:GMT
DTSTART:20221030T010000
END:STANDARD
BEGIN:DAYLIGHT
TZOFFSETFROM:+0000
TZOFFSETTO:+0100
TZNAME:BST
DTSTART:20230326T010000
END:DAYLIGHT
BEGIN:STANDARD
TZOFFSETFROM:+0100
TZOFFSETTO:+0000
TZNAME:GMT
DTSTART:20231029T010000
END:STANDARD
BEGIN:DAYLIGHT
TZOFFSETFROM:+0000
TZOFFSETTO:+0100
TZNAME:BST
DTSTART:20240331T010000
END:DAYLIGHT
BEGIN:STANDARD
TZOFFSETFROM:+0100
TZOFFSETTO:+0000
TZNAME:GMT
DTSTART:20241027T010000
END:STANDARD
END:VTIMEZONE
BEGIN:VEVENT
DTSTART;TZID=Europe/London:20221211T183000
DTEND;TZID=Europe/London:20221211T213000
DTSTAMP:20260424T232339
CREATED:20221027T112822Z
LAST-MODIFIED:20221102T134647Z
UID:4930-1670783400-1670794200@theoakinnstaplow.co.uk
SUMMARY:***SOLD OUT*** CHRISTMAS SEA SHANTY CORNISH PARTY - FREE EVENT - Sun 11th Dec at 6.30pm
DESCRIPTION:Join us for a new monthly event! SEA SHANTY CORNISH PARTY – FREE EVENT on Sunday 11th December at 6.30pm. Featuring THE BISHOPS FROME SHANTY MEN and special guests. Themed Cornish food and drink including TRIBUTE & DUMBAR ALES. Restaurant open from 6.00pm until 7.30pm. To reserve your table please visit our WEBSITE www.theoakinnstaplow.co.uk and click BOOK A TABLE or just CALL US on 01531 640954 
URL:https://theoakinnstaplow.co.uk/event/christmas-sea-shanty-cornish-party-free-event-sun-11th-dec-at-6-30pm/
LOCATION:The Oak Inn at Staplow\, Bromyard Road\, Ledbury\, Herefordshire\, HR8 1NP\, United Kingdom
CATEGORIES:Live Music,Special Events
ATTACH;FMTTYPE=image/jpeg:https://theoakinnstaplow.co.uk/wp-content/uploads/2022/10/seashantyevent.jpg
END:VEVENT
BEGIN:VEVENT
DTSTART;TZID=Europe/London:20221217T183000
DTEND;TZID=Europe/London:20221217T213000
DTSTAMP:20260424T232339
CREATED:20220916T110511Z
LAST-MODIFIED:20221216T224834Z
UID:4104-1671301800-1671312600@theoakinnstaplow.co.uk
SUMMARY:***SOLD OUT*** THE ULTIMATE CHRISTMAS PARTY...TOM JONES TRIBUTE PARTY..Sat 17th Dec arrive 6.30pm
DESCRIPTION:Join us for our ultimate Christmas Party featuring Ian Scott as TOM JONES on Saturday 17th December\, arrive 6.30pm for 7.00pm. Enjoy a Xmas Cocktail upon arrival and a 3 course Christmas Dinner & Disco. Price – £50.00. This is a pre-paid event. \n 
URL:https://theoakinnstaplow.co.uk/event/tom-jones-event/
LOCATION:The Oak Inn at Staplow\, Bromyard Road\, Ledbury\, Herefordshire\, HR8 1NP\, United Kingdom
CATEGORIES:Live Music
ATTACH;FMTTYPE=image/jpeg:https://theoakinnstaplow.co.uk/wp-content/uploads/2022/09/tomjones141222.jpg
END:VEVENT
BEGIN:VEVENT
DTSTART;TZID=Europe/London:20221231T180000
DTEND;TZID=Europe/London:20230101T010000
DTSTAMP:20260424T232339
CREATED:20220930T104915Z
LAST-MODIFIED:20221028T100502Z
UID:4368-1672509600-1672534800@theoakinnstaplow.co.uk
SUMMARY:NEW YEAR'S EVE CASINO & DISCO PARTY - 3 course meal - Sat 31st Jan
DESCRIPTION:Join us for Team Oak’s New Year’s Eve Casino & Disco Party..Play Charity Roulette and “Let us entertain You” featuring our very own H as DJ plus surprise guest singers. 3 course QEII themed meal serving from 6.00pm until 8.30pm plus a 2023 Cocktail to celebrate the new year. \nBuy Tickets Below:\n(If you require a refund\, it must be requested at least 48 hours before the event starts) \nFull Name *Email Address *Phone Number *Number of Tickets *Total Price (£)Credit / Debit Card *Buy Now
URL:https://theoakinnstaplow.co.uk/event/new-years-eve/
LOCATION:The Oak Inn at Staplow\, Bromyard Road\, Ledbury\, Herefordshire\, HR8 1NP\, United Kingdom
CATEGORIES:Live Music,Special Events
ATTACH;FMTTYPE=image/png:https://theoakinnstaplow.co.uk/wp-content/uploads/2022/09/nye2022.png
END:VEVENT
END:VCALENDAR