BEGIN:VCALENDAR
VERSION:2.0
PRODID:-//The Oak Inn Staplow - ECPv6.15.20//NONSGML v1.0//EN
CALSCALE:GREGORIAN
METHOD:PUBLISH
X-ORIGINAL-URL:https://theoakinnstaplow.co.uk
X-WR-CALDESC:Events for The Oak Inn Staplow
REFRESH-INTERVAL;VALUE=DURATION:PT1H
X-Robots-Tag:noindex
X-PUBLISHED-TTL:PT1H
BEGIN:VTIMEZONE
TZID:Europe/London
BEGIN:DAYLIGHT
TZOFFSETFROM:+0000
TZOFFSETTO:+0100
TZNAME:BST
DTSTART:20230326T010000
END:DAYLIGHT
BEGIN:STANDARD
TZOFFSETFROM:+0100
TZOFFSETTO:+0000
TZNAME:GMT
DTSTART:20231029T010000
END:STANDARD
BEGIN:DAYLIGHT
TZOFFSETFROM:+0000
TZOFFSETTO:+0100
TZNAME:BST
DTSTART:20240331T010000
END:DAYLIGHT
BEGIN:STANDARD
TZOFFSETFROM:+0100
TZOFFSETTO:+0000
TZNAME:GMT
DTSTART:20241027T010000
END:STANDARD
BEGIN:DAYLIGHT
TZOFFSETFROM:+0000
TZOFFSETTO:+0100
TZNAME:BST
DTSTART:20250330T010000
END:DAYLIGHT
BEGIN:STANDARD
TZOFFSETFROM:+0100
TZOFFSETTO:+0000
TZNAME:GMT
DTSTART:20251026T010000
END:STANDARD
END:VTIMEZONE
BEGIN:VEVENT
DTSTART;TZID=Europe/London:20240229T180000
DTEND;TZID=Europe/London:20240229T203000
DTSTAMP:20260422T215024
CREATED:20240222T120848Z
LAST-MODIFIED:20240222T120848Z
UID:14137-1709229600-1709238600@theoakinnstaplow.co.uk
SUMMARY:STEAK CLUB NIGHT on Thursday 29th Febuary at 6.00pm until 8.30pm - SHARING TOMAHAWK
DESCRIPTION:Join us for our next STEAK CLUB NIGHT on Thursday 29th Febuary at 6.00pm until 8.30pm. This week Team Oak offers you SHARING TOMAHAWK approx. 25oz BUTCHERS CUT’ STEAK served with a Salad Garnish and Big Chips or Fries and a BOTTLE of ARGENTINIAN ‘BEEFSTEAK CLUB’ MALBEC. Plus you can order individual sides and don’t forget our main menu is available too 
URL:https://theoakinnstaplow.co.uk/event/steak-club-night-on-thursday-29th-febuary-at-6-00pm-until-8-30pm-sharing-tomahawk/
LOCATION:The Oak Inn at Staplow\, Bromyard Road\, Ledbury\, Herefordshire\, HR8 1NP\, United Kingdom
CATEGORIES:Food
ATTACH;FMTTYPE=image/jpeg:https://theoakinnstaplow.co.uk/wp-content/uploads/2024/02/290224steak.jpeg
END:VEVENT
END:VCALENDAR