BEGIN:VCALENDAR
VERSION:2.0
PRODID:-//The Oak Inn Staplow - ECPv6.15.20//NONSGML v1.0//EN
CALSCALE:GREGORIAN
METHOD:PUBLISH
X-WR-CALNAME:The Oak Inn Staplow
X-ORIGINAL-URL:https://theoakinnstaplow.co.uk
X-WR-CALDESC:Events for The Oak Inn Staplow
REFRESH-INTERVAL;VALUE=DURATION:PT1H
X-Robots-Tag:noindex
X-PUBLISHED-TTL:PT1H
BEGIN:VTIMEZONE
TZID:Europe/London
BEGIN:DAYLIGHT
TZOFFSETFROM:+0000
TZOFFSETTO:+0100
TZNAME:BST
DTSTART:20230326T010000
END:DAYLIGHT
BEGIN:STANDARD
TZOFFSETFROM:+0100
TZOFFSETTO:+0000
TZNAME:GMT
DTSTART:20231029T010000
END:STANDARD
BEGIN:DAYLIGHT
TZOFFSETFROM:+0000
TZOFFSETTO:+0100
TZNAME:BST
DTSTART:20240331T010000
END:DAYLIGHT
BEGIN:STANDARD
TZOFFSETFROM:+0100
TZOFFSETTO:+0000
TZNAME:GMT
DTSTART:20241027T010000
END:STANDARD
BEGIN:DAYLIGHT
TZOFFSETFROM:+0000
TZOFFSETTO:+0100
TZNAME:BST
DTSTART:20250330T010000
END:DAYLIGHT
BEGIN:STANDARD
TZOFFSETFROM:+0100
TZOFFSETTO:+0000
TZNAME:GMT
DTSTART:20251026T010000
END:STANDARD
END:VTIMEZONE
BEGIN:VEVENT
DTSTART;TZID=Europe/London:20240215T180000
DTEND;TZID=Europe/London:20240215T203000
DTSTAMP:20260422T233215
CREATED:20240208T175928Z
LAST-MODIFIED:20240208T175928Z
UID:13829-1708020000-1708029000@theoakinnstaplow.co.uk
SUMMARY:THURSDAY STEAK CLUB - Thursday 15th February - 6:00 - 8:30pm - SHARING CHATEAUBRIAND 16oz
DESCRIPTION:Join us EVERY THURSDAY for our new ‘THURSDAY STEAK CLUB’ this week enjoy our famous SHARING CHATEAUBRIAND 16oz ‘BUTCHERS CUT’ TENDERLOIN FILLET STEAK plus a bottle of BEEF STEAK CLUB – ARGENTINIAN MALBEC – £65.00 for two people. Available for DINNER from 6.00pm until 8.15pm. We offer you a different Steak every week.To reserve your table please visit our WEBSITE www.theoakinnstaplow.co.uk and click BOOK A TABLE or just CALL US on 01531 640954 
URL:https://theoakinnstaplow.co.uk/event/thursday-steak-club-thursday-15th-february-600-830pm-sharing-chateaubriand-16oz/
LOCATION:The Oak Inn at Staplow\, Bromyard Road\, Ledbury\, Herefordshire\, HR8 1NP\, United Kingdom
CATEGORIES:Food
ATTACH;FMTTYPE=image/jpeg:https://theoakinnstaplow.co.uk/wp-content/uploads/2024/02/steak-poster-15-feb-2024.jpeg
END:VEVENT
END:VCALENDAR