BEGIN:VCALENDAR
VERSION:2.0
PRODID:-//The Oak Inn Staplow - ECPv6.15.20//NONSGML v1.0//EN
CALSCALE:GREGORIAN
METHOD:PUBLISH
X-ORIGINAL-URL:https://theoakinnstaplow.co.uk
X-WR-CALDESC:Events for The Oak Inn Staplow
REFRESH-INTERVAL;VALUE=DURATION:PT1H
X-Robots-Tag:noindex
X-PUBLISHED-TTL:PT1H
BEGIN:VTIMEZONE
TZID:Europe/London
BEGIN:DAYLIGHT
TZOFFSETFROM:+0000
TZOFFSETTO:+0100
TZNAME:BST
DTSTART:20220327T010000
END:DAYLIGHT
BEGIN:STANDARD
TZOFFSETFROM:+0100
TZOFFSETTO:+0000
TZNAME:GMT
DTSTART:20221030T010000
END:STANDARD
BEGIN:DAYLIGHT
TZOFFSETFROM:+0000
TZOFFSETTO:+0100
TZNAME:BST
DTSTART:20230326T010000
END:DAYLIGHT
BEGIN:STANDARD
TZOFFSETFROM:+0100
TZOFFSETTO:+0000
TZNAME:GMT
DTSTART:20231029T010000
END:STANDARD
BEGIN:DAYLIGHT
TZOFFSETFROM:+0000
TZOFFSETTO:+0100
TZNAME:BST
DTSTART:20240331T010000
END:DAYLIGHT
BEGIN:STANDARD
TZOFFSETFROM:+0100
TZOFFSETTO:+0000
TZNAME:GMT
DTSTART:20241027T010000
END:STANDARD
END:VTIMEZONE
BEGIN:VEVENT
DTSTART;TZID=Europe/London:20230722T153000
DTEND;TZID=Europe/London:20230722T183000
DTSTAMP:20260423T120614
CREATED:20230527T174113Z
LAST-MODIFIED:20230527T174113Z
UID:8674-1690039800-1690050600@theoakinnstaplow.co.uk
SUMMARY:SUMMER PIZZA & BROWNIE POP-UP on Sat 22nd July 2.30pm
DESCRIPTION:Join us for pop-up STREET FOOD PIZZA with THE PIZZA BOX and CHOCOLATE BROWNIES with The Chock Shop. Both in our car park EAT-IN or TAKEAWAY on Saturday 22nd July from 2.30pm until 5.30pm
URL:https://theoakinnstaplow.co.uk/event/summer-pizza-brownie-pop-up-on-sat-22nd-july-2-30pm/
LOCATION:The Oak Inn at Staplow\, Bromyard Road\, Ledbury\, Herefordshire\, HR8 1NP\, United Kingdom
CATEGORIES:Food
ATTACH;FMTTYPE=image/jpeg:https://theoakinnstaplow.co.uk/wp-content/uploads/2023/05/SUMMER-PIZZA-BROWNIE-POP-UP-on-Sat-22nd-July-2.30pm.jpg
END:VEVENT
END:VCALENDAR