BEGIN:VCALENDAR
VERSION:2.0
PRODID:-//The Oak Inn Staplow - ECPv6.15.20//NONSGML v1.0//EN
CALSCALE:GREGORIAN
METHOD:PUBLISH
X-WR-CALNAME:The Oak Inn Staplow
X-ORIGINAL-URL:https://theoakinnstaplow.co.uk
X-WR-CALDESC:Events for The Oak Inn Staplow
REFRESH-INTERVAL;VALUE=DURATION:PT1H
X-Robots-Tag:noindex
X-PUBLISHED-TTL:PT1H
BEGIN:VTIMEZONE
TZID:Europe/London
BEGIN:DAYLIGHT
TZOFFSETFROM:+0000
TZOFFSETTO:+0100
TZNAME:BST
DTSTART:20220327T010000
END:DAYLIGHT
BEGIN:STANDARD
TZOFFSETFROM:+0100
TZOFFSETTO:+0000
TZNAME:GMT
DTSTART:20221030T010000
END:STANDARD
BEGIN:DAYLIGHT
TZOFFSETFROM:+0000
TZOFFSETTO:+0100
TZNAME:BST
DTSTART:20230326T010000
END:DAYLIGHT
BEGIN:STANDARD
TZOFFSETFROM:+0100
TZOFFSETTO:+0000
TZNAME:GMT
DTSTART:20231029T010000
END:STANDARD
BEGIN:DAYLIGHT
TZOFFSETFROM:+0000
TZOFFSETTO:+0100
TZNAME:BST
DTSTART:20240331T010000
END:DAYLIGHT
BEGIN:STANDARD
TZOFFSETFROM:+0100
TZOFFSETTO:+0000
TZNAME:GMT
DTSTART:20241027T010000
END:STANDARD
END:VTIMEZONE
BEGIN:VEVENT
DTSTART;TZID=Europe/London:20230319T160000
DTEND;TZID=Europe/London:20230319T200000
DTSTAMP:20260423T185955
CREATED:20230118T214415Z
LAST-MODIFIED:20230118T214415Z
UID:6337-1679241600-1679256000@theoakinnstaplow.co.uk
SUMMARY:FREE ST PATRICKS PARTY & BEEF BOYS on SUN 19th MARCH 4.00PM - 8.00PM
DESCRIPTION:Join us for our FREE ST PATRICK’S PARTY plus BEEFY BOYS! On SUNDAY 19TH MARCH from 4.00pm until 8.00pm. EAT-IN or TAKEAWAY! Plus DIVINE DONUTS and our APRES SKI BAR with cosy LOG FIRE. Listen to IRISH CLASSICS 
URL:https://theoakinnstaplow.co.uk/event/free-st-patricks-party-beef-boys-on-sun-19th-march-4-00pm-8-00pm/
LOCATION:The Oak Inn at Staplow\, Bromyard Road\, Ledbury\, Herefordshire\, HR8 1NP\, United Kingdom
CATEGORIES:Food,Live Music,Special Events
ATTACH;FMTTYPE=image/jpeg:https://theoakinnstaplow.co.uk/wp-content/uploads/2023/01/beefyboysmarch2023.jpg
END:VEVENT
END:VCALENDAR