BEGIN:VCALENDAR
VERSION:2.0
PRODID:-//The Oak Inn Staplow - ECPv6.15.20//NONSGML v1.0//EN
CALSCALE:GREGORIAN
METHOD:PUBLISH
X-WR-CALNAME:The Oak Inn Staplow
X-ORIGINAL-URL:https://theoakinnstaplow.co.uk
X-WR-CALDESC:Events for The Oak Inn Staplow
REFRESH-INTERVAL;VALUE=DURATION:PT1H
X-Robots-Tag:noindex
X-PUBLISHED-TTL:PT1H
BEGIN:VTIMEZONE
TZID:Europe/London
BEGIN:DAYLIGHT
TZOFFSETFROM:+0000
TZOFFSETTO:+0100
TZNAME:BST
DTSTART:20230326T010000
END:DAYLIGHT
BEGIN:STANDARD
TZOFFSETFROM:+0100
TZOFFSETTO:+0000
TZNAME:GMT
DTSTART:20231029T010000
END:STANDARD
BEGIN:DAYLIGHT
TZOFFSETFROM:+0000
TZOFFSETTO:+0100
TZNAME:BST
DTSTART:20240331T010000
END:DAYLIGHT
BEGIN:STANDARD
TZOFFSETFROM:+0100
TZOFFSETTO:+0000
TZNAME:GMT
DTSTART:20241027T010000
END:STANDARD
BEGIN:DAYLIGHT
TZOFFSETFROM:+0000
TZOFFSETTO:+0100
TZNAME:BST
DTSTART:20250330T010000
END:DAYLIGHT
BEGIN:STANDARD
TZOFFSETFROM:+0100
TZOFFSETTO:+0000
TZNAME:GMT
DTSTART:20251026T010000
END:STANDARD
END:VTIMEZONE
BEGIN:VEVENT
DTSTART;TZID=Europe/London:20240304T120000
DTEND;TZID=Europe/London:20240310T193000
DTSTAMP:20260422T200405
CREATED:20240224T134011Z
LAST-MODIFIED:20240301T180726Z
UID:14176-1709553600-1710099000@theoakinnstaplow.co.uk
SUMMARY:NATIONAL PIE WEEK from Monday 04th March until Sunday 10th March - HOMEMADE PIES
DESCRIPTION:Join us for NATIONAL PIE WEEK from Monday 04th March until Sunday 10th March. As Team Oak will be serving a selection of HOMEMADE PIES \nNot available for Sunday Lunch
URL:https://theoakinnstaplow.co.uk/event/national-pie-week-from-monday-04th-march-until-sunday-10th-march-homemade-pies/
LOCATION:The Oak Inn at Staplow\, Bromyard Road\, Ledbury\, Herefordshire\, HR8 1NP\, United Kingdom
CATEGORIES:Food
ATTACH;FMTTYPE=image/jpeg:https://theoakinnstaplow.co.uk/wp-content/uploads/2024/02/Pieweeknewposter2024.jpeg
END:VEVENT
BEGIN:VEVENT
DTSTART;TZID=Europe/London:20240307T180000
DTEND;TZID=Europe/London:20240307T203000
DTSTAMP:20260422T200405
CREATED:20240229T201438Z
LAST-MODIFIED:20240229T212853Z
UID:14306-1709834400-1709843400@theoakinnstaplow.co.uk
SUMMARY:Steak Club - Every Thursday Night - SHARING CHATEAUBRIAND 16oz
DESCRIPTION:Join us EVERY THURSDAY for our new ‘THURSDAY STEAK CLUB’ this week enjoy our famous SHARING CHATEAUBRIAND 16oz ‘BUTCHERS CUT’ TENDERLOUN FILLET STEAK plus a bottle of BEEF STEAK CLUB – ARGENTINIAN MALBEC – £65.00 for two people. Available for DINNER from 6.00pm until 8.30pm. To reserve your table at the HOME of COUNTRYSIDE COMFORT FOOD please visit our WEBSITE www.theoakinnstaplow.co.uk and click BOOK A TABLE or just CALL US on 01531 640954. MAIN MENU also AVAILABLE 
URL:https://theoakinnstaplow.co.uk/event/steak-club-every-thursday-night-sharing-chateaubriand-16oz/
LOCATION:The Oak Inn at Staplow\, Bromyard Road\, Ledbury\, Herefordshire\, HR8 1NP\, United Kingdom
CATEGORIES:Food
ATTACH;FMTTYPE=image/jpeg:https://theoakinnstaplow.co.uk/wp-content/uploads/2024/02/Steakposter290224.jpeg
END:VEVENT
BEGIN:VEVENT
DTSTART;TZID=Europe/London:20240310T170000
DTEND;TZID=Europe/London:20240310T200000
DTSTAMP:20260422T200405
CREATED:20240205T155137Z
LAST-MODIFIED:20240205T155336Z
UID:13681-1710090000-1710100800@theoakinnstaplow.co.uk
SUMMARY:The Greek Escape on Mothers Day - Sunday 10th March 5-8pm
DESCRIPTION:Join us for a special TEAM OAK GREEK EXPERIENCE on Mothers Day Sunday 10th March 5-8pm! Treat your mum to a special themed evening with our mums having the night off! As we have GREEK ESCAPE serving delicious themed food in our car park\, EAT-IN or TAKEAWAY. Plus we’ll be playing AUTHENTIC GREEK MUSIC and also offering a GREEK OUZO LEMON SPRITZ COCKTAIL \nTo reserve your table please visit our WEBSITE www.theoakinnstaplow.co.uk and click BOOK A TABLE or just CALL US on 01531 640954 
URL:https://theoakinnstaplow.co.uk/event/the-greek-escape-on-mothers-day-sunday-10th-march-5-8pm/
LOCATION:The Oak Inn at Staplow\, Bromyard Road\, Ledbury\, Herefordshire\, HR8 1NP\, United Kingdom
CATEGORIES:Food,Special Events
ATTACH;FMTTYPE=image/jpeg:https://theoakinnstaplow.co.uk/wp-content/uploads/2024/02/greek-night-2024.jpeg
END:VEVENT
BEGIN:VEVENT
DTSTART;TZID=Europe/London:20240314T180000
DTEND;TZID=Europe/London:20240314T203000
DTSTAMP:20260422T200405
CREATED:20240229T214603Z
LAST-MODIFIED:20240229T214603Z
UID:14313-1710439200-1710448200@theoakinnstaplow.co.uk
SUMMARY:Steak Club - Every Thursday Night - SHARING CHATEAUBRIAND 16oz
DESCRIPTION:Join us EVERY THURSDAY for our new ‘THURSDAY STEAK CLUB’ this week enjoy our famous SHARING CHATEAUBRIAND 16oz ‘BUTCHERS CUT’ TENDERLOUN FILLET STEAK plus a bottle of BEEF STEAK CLUB – ARGENTINIAN MALBEC – £65.00 for two people. Available for DINNER from 6.00pm until 8.30pm.To reserve your table at the HOME of COUNTRYSIDE COMFORT FOOD please visit our WEBSITE www.theoakinnstaplow.co.uk and click BOOK A TABLE or just CALL US on 01531 640954. MAIN MENU also AVAILABLE 
URL:https://theoakinnstaplow.co.uk/event/steak-club-every-thursday-night-sharing-chateaubriand-16oz-2/
LOCATION:The Oak Inn at Staplow\, Bromyard Road\, Ledbury\, Herefordshire\, HR8 1NP\, United Kingdom
CATEGORIES:Food
ATTACH;FMTTYPE=image/jpeg:https://theoakinnstaplow.co.uk/wp-content/uploads/2024/02/steak290224.jpeg
END:VEVENT
BEGIN:VEVENT
DTSTART;TZID=Europe/London:20240321T180000
DTEND;TZID=Europe/London:20240321T203000
DTSTAMP:20260422T200405
CREATED:20240229T214655Z
LAST-MODIFIED:20240318T115330Z
UID:14315-1711044000-1711053000@theoakinnstaplow.co.uk
SUMMARY:Steak Club - Every Thursday Night - SHARING CHATEAUBRIAND 16oz
DESCRIPTION:Join us EVERY THURSDAY for our new ‘THURSDAY STEAK CLUB’ this week enjoy our famous SHARING CHATEAUBRIAND 16oz ‘BUTCHERS CUT’ TENDERLOIN FILLET STEAK plus a bottle of BEEF STEAK CLUB – ARGENTINIAN MALBEC – £65.00 for two people. Available for DINNER from 6.00pm until 8.30pm.To reserve your table at the HOME of COUNTRYSIDE COMFORT FOOD please visit our WEBSITE www.theoakinnstaplow.co.uk and click BOOK A TABLE or just CALL US on 01531 640954. MAIN MENU also AVAILABLE 
URL:https://theoakinnstaplow.co.uk/event/steak-club-every-thursday-night-sharing-chateaubriand-16oz-3/
LOCATION:The Oak Inn at Staplow\, Bromyard Road\, Ledbury\, Herefordshire\, HR8 1NP\, United Kingdom
CATEGORIES:Food
ATTACH;FMTTYPE=image/jpeg:https://theoakinnstaplow.co.uk/wp-content/uploads/2024/02/steakthursday180324.jpeg
END:VEVENT
BEGIN:VEVENT
DTSTART;TZID=Europe/London:20240328T180000
DTEND;TZID=Europe/London:20240328T203000
DTSTAMP:20260422T200405
CREATED:20240229T214842Z
LAST-MODIFIED:20240229T214855Z
UID:14318-1711648800-1711657800@theoakinnstaplow.co.uk
SUMMARY:Steak Club - Every Thursday Night - SHARING CHATEAUBRIAND 16oz
DESCRIPTION:Join us EVERY THURSDAY for our new ‘THURSDAY STEAK CLUB’ this week enjoy our famous SHARING CHATEAUBRIAND 16oz ‘BUTCHERS CUT’ TENDERLOUN FILLET STEAK plus a bottle of BEEF STEAK CLUB – ARGENTINIAN MALBEC – £65.00 for two people. Available for DINNER from 6.00pm until 8.30pm.To reserve your table at the HOME of COUNTRYSIDE COMFORT FOOD please visit our WEBSITE www.theoakinnstaplow.co.uk and click BOOK A TABLE or just CALL US on 01531 640954. MAIN MENU also AVAILABLE 
URL:https://theoakinnstaplow.co.uk/event/steak-club-every-thursday-night-sharing-chateaubriand-16oz-4/
LOCATION:The Oak Inn at Staplow\, Bromyard Road\, Ledbury\, Herefordshire\, HR8 1NP\, United Kingdom
CATEGORIES:Food
ATTACH;FMTTYPE=image/jpeg:https://theoakinnstaplow.co.uk/wp-content/uploads/2024/02/steak290224.jpeg
END:VEVENT
END:VCALENDAR