BEGIN:VCALENDAR
VERSION:2.0
PRODID:-//The Oak Inn Staplow - ECPv6.15.20//NONSGML v1.0//EN
CALSCALE:GREGORIAN
METHOD:PUBLISH
X-ORIGINAL-URL:https://theoakinnstaplow.co.uk
X-WR-CALDESC:Events for The Oak Inn Staplow
REFRESH-INTERVAL;VALUE=DURATION:PT1H
X-Robots-Tag:noindex
X-PUBLISHED-TTL:PT1H
BEGIN:VTIMEZONE
TZID:Europe/London
BEGIN:DAYLIGHT
TZOFFSETFROM:+0000
TZOFFSETTO:+0100
TZNAME:BST
DTSTART:20230326T010000
END:DAYLIGHT
BEGIN:STANDARD
TZOFFSETFROM:+0100
TZOFFSETTO:+0000
TZNAME:GMT
DTSTART:20231029T010000
END:STANDARD
BEGIN:DAYLIGHT
TZOFFSETFROM:+0000
TZOFFSETTO:+0100
TZNAME:BST
DTSTART:20240331T010000
END:DAYLIGHT
BEGIN:STANDARD
TZOFFSETFROM:+0100
TZOFFSETTO:+0000
TZNAME:GMT
DTSTART:20241027T010000
END:STANDARD
BEGIN:DAYLIGHT
TZOFFSETFROM:+0000
TZOFFSETTO:+0100
TZNAME:BST
DTSTART:20250330T010000
END:DAYLIGHT
BEGIN:STANDARD
TZOFFSETFROM:+0100
TZOFFSETTO:+0000
TZNAME:GMT
DTSTART:20251026T010000
END:STANDARD
END:VTIMEZONE
BEGIN:VEVENT
DTSTART;TZID=Europe/London:20240111T120000
DTEND;TZID=Europe/London:20240111T203000
DTSTAMP:20260422T233034
CREATED:20240107T210540Z
LAST-MODIFIED:20240114T205037Z
UID:13041-1704974400-1705005000@theoakinnstaplow.co.uk
SUMMARY:Launch of Team Oak's Steak Club - Thursday 11th January - Available for both LUNCH and DINNER
DESCRIPTION:Join us EVERY THURSDAY for our new ‘STEAK CLUB’ enjoy KNIGHTWICK BUTCHERS finest STEAKS from their LONGHORN HERD. Available for both LUNCH and DINNER alongside our main WINTER MENU. To reserve your table please visit our WEBSITE www.theoakinnstaplow.co.uk and click BOOK A TABLE or just CALL US on 01531 640954 
URL:https://theoakinnstaplow.co.uk/event/launch-of-team-oaks-steak-club-thursday-11th-january-available-for-both-lunch-and-dinner/
LOCATION:The Oak Inn at Staplow\, Bromyard Road\, Ledbury\, Herefordshire\, HR8 1NP\, United Kingdom
CATEGORIES:Food
ATTACH;FMTTYPE=image/jpeg:https://theoakinnstaplow.co.uk/wp-content/uploads/2024/01/steakclub1.jpeg
END:VEVENT
BEGIN:VEVENT
DTSTART;TZID=Europe/London:20240125T183000
DTEND;TZID=Europe/London:20240125T203000
DTSTAMP:20260422T233034
CREATED:20231228T100118Z
LAST-MODIFIED:20240109T154029Z
UID:12770-1706207400-1706214600@theoakinnstaplow.co.uk
SUMMARY:***SOLD OUT***BURNS NIGHT SUPPER on Thursday 25th January at 6.30pm.
DESCRIPTION:Join us for a full blown BURNS NIGHT SUPPER on Thursday 25th January at 6.30pm. We have a Haggis\, Bagpipes\, Music and Whiskey! Plus all the usual traditions of a typical BURNS NIGHT! 
URL:https://theoakinnstaplow.co.uk/event/burns-night-supper-on-thursday-25th-january-at-6-30pm/
LOCATION:The Oak Inn at Staplow\, Bromyard Road\, Ledbury\, Herefordshire\, HR8 1NP\, United Kingdom
CATEGORIES:Food,Special Events
ATTACH;FMTTYPE=image/jpeg:https://theoakinnstaplow.co.uk/wp-content/uploads/2023/12/burnsnight20231-1.jpeg
END:VEVENT
END:VCALENDAR