BEGIN:VCALENDAR
VERSION:2.0
PRODID:-//The Oak Inn Staplow - ECPv6.15.20//NONSGML v1.0//EN
CALSCALE:GREGORIAN
METHOD:PUBLISH
X-WR-CALNAME:The Oak Inn Staplow
X-ORIGINAL-URL:https://theoakinnstaplow.co.uk
X-WR-CALDESC:Events for The Oak Inn Staplow
REFRESH-INTERVAL;VALUE=DURATION:PT1H
X-Robots-Tag:noindex
X-PUBLISHED-TTL:PT1H
BEGIN:VTIMEZONE
TZID:Europe/London
BEGIN:DAYLIGHT
TZOFFSETFROM:+0000
TZOFFSETTO:+0100
TZNAME:BST
DTSTART:20250330T010000
END:DAYLIGHT
BEGIN:STANDARD
TZOFFSETFROM:+0100
TZOFFSETTO:+0000
TZNAME:GMT
DTSTART:20251026T010000
END:STANDARD
BEGIN:DAYLIGHT
TZOFFSETFROM:+0000
TZOFFSETTO:+0100
TZNAME:BST
DTSTART:20260329T010000
END:DAYLIGHT
BEGIN:STANDARD
TZOFFSETFROM:+0100
TZOFFSETTO:+0000
TZNAME:GMT
DTSTART:20261025T010000
END:STANDARD
BEGIN:DAYLIGHT
TZOFFSETFROM:+0000
TZOFFSETTO:+0100
TZNAME:BST
DTSTART:20270328T010000
END:DAYLIGHT
BEGIN:STANDARD
TZOFFSETFROM:+0100
TZOFFSETTO:+0000
TZNAME:GMT
DTSTART:20271031T010000
END:STANDARD
END:VTIMEZONE
BEGIN:VEVENT
DTSTART;TZID=Europe/London:20260426T150000
DTEND;TZID=Europe/London:20260426T173000
DTSTAMP:20260426T013558
CREATED:20260412T175020Z
LAST-MODIFIED:20260412T175020Z
UID:29018-1777215600-1777224600@theoakinnstaplow.co.uk
SUMMARY:FA CUP SEMI-FINAL CHELSEA v LEEDS UNITED on Sunday 26th April Kickoff 3:00pm
DESCRIPTION:Join us for LIVE FOOTBALL in our Bar Area
URL:https://theoakinnstaplow.co.uk/event/fa-cup-semi-final-chelsea-v-leeds-united-on-sunday-26th-april-kickoff-300pm/
LOCATION:The Oak Inn at Staplow\, Bromyard Road\, Ledbury\, Herefordshire\, HR8 1NP\, United Kingdom
CATEGORIES:Live Sports Events
ATTACH;FMTTYPE=image/jpeg:https://theoakinnstaplow.co.uk/wp-content/uploads/2026/04/FACupSemiFinal2026.jpg
END:VEVENT
END:VCALENDAR